BEGIN:VCALENDAR
VERSION:2.0
PRODID:-//ucf_event//calendar//ES
CALSCALE:GREGORIAN
BEGIN:VEVENT
UID:event-124748@www.ucf.cat
DTSTAMP:20260424T101721Z
DTSTART:20260213T080000Z
SUMMARY:V Trobada de Responsables i Tècnics de formació i desenvolupament d'organitzacions de salut i social
DESCRIPTION:⚠️ Avís important: A causa de la ventada que ha afectat tot Catalunya\, hem hagut de canviar la ubicació de l’esdeveniment.📍 Nova ubicació:Districte AdministratiuCarrer del Foc\, 57Sants‑Montjuïc\, 08038 Barcelona🕘 L'horari es manté: 9.00 h - 14.30 h👉 Et recomanem arribar a les 08.45 h per acreditar-te ràpidament i començar puntualment.-------------En els projectes\, com en l'amor\, no sempre s'encerta a la primera. Però cada error ens acosta una mica més a l’èxit.El pròxim divendres 13 de febrer de 2026 tindrem un espai per compartir\, inspirar-nos i aprendre junts de l’error. Us esperem a l'auditori del Districte Administratiu entre les 09.00 h i les 14.30 h per demostrar-nos que\, tot i que sigui divendres 13 no hem de tenir por de provar\, cometre errors\, mesurar el resultat ni d'aprendre de les nostres errades i continuar endavant per millorar. L'Institut Català de la Salut (ICS) i Unió Consorci Formació (UCF) organitzem conjuntament la cinquena Trobada de Responsables i Tècnics de formació i desenvolupament d'organitzacions de salut i social\, amb la col·laboració de Factor Humà. T'hi esperem.&nbsp\;Només per obrir boca\, aquí tens un tastet del que ens espera: &nbsp\;09.00 h: Acreditacions i benvinguda.09.30 h: Dinàmica MAE. Primera part.10.30 h: Xerrada de futur: En els projectes\, com en l'amor\, no hem de tenir por a l'error!11.15 h: Pausa cafè per xerrar una mica plegats.11.45 h: Experiències que ens ensenyen\, a càrrec la gerent del Consorci Sanitari Alt Penedès - Garraf (CSAPG)\, Olga Farré Lladó.12:15 h: Dinàmica MAE. Segona part.13.15 h: Els imprescindibles: no podràs viure sense ells!13.45 h: Aprendre és BITAL! Compartim què hem après.14.15 h: Tancament. Àngels Sandín\, Subdirectora General d’Ordenació i Desenvolupament Professional. Direcció General de Professionals de la Salut.14.30 h: Pica-pica final.&nbsp\;🗓️​ Apunta 👇​
LOCATION:Districte Administratiu\, Carrer del Foc\, 57\, 08038\, Barcelona\, B\, Espanya
URL:http://www.ucf.cat/ca/esdeveniment/v-trobada-responsables-tecnics-formacio-desenvolupament-organitzacions-salut-social
END:VEVENT
END:VCALENDAR
